BEGIN:VCALENDAR
VERSION:2.0
PRODID:-//wp-events-plugin.com//7.2.3.1//EN
TZID:America/Chicago
X-WR-TIMEZONE:America/Chicago
BEGIN:VEVENT
UID:196@midwesthemophilia.org
DTSTART;TZID=America/Chicago;VALUE=DATE:20210924
DTEND;TZID=America/Chicago;VALUE=DATE:20210925
DTSTAMP:20210901T223247Z
URL:https://midwesthemophilia.org/events/23rd-annual-mha-golf-tournament-2
 021/
SUMMARY:23rd Annual MHA Golf Tournament 2021 - WinterStone Golf Course - 24
  Sep 21 00:00
DESCRIPTION:\nCome be part of the 23rd Annual MHA Golf Tournament\, Friday
 \, September 24\, 2021\, at Winter Stone Golf Course in Independence 17101
  E. Kentucky Rd\, Missouri 64058. Check-in begins at 7:00am with a Tee Ti
 me of 8am (shotgun start) .\n\nWith your support\, MHA will receive criti
 cal funds used to support our programs and services throughout the year fo
 r children\, teens\, adults and their families affected by hemophilia and 
 von Willebrand disease.\n\n  Because of you\, someone with a bleeding dis
 order can receive access to healthcare and life-saving medications. Thank 
 you  \n\nOpen to the general public\, businesses\, our bleeding disorder
 s individuals/families\, and industry partners each team registration incl
 udes:\n\n\n 	18-hole\, 4-player scramble (flighted)\n 	Golf cart\n 	Breakf
 ast\, lunch &amp\; beverages\n 	Registration bag\n 	Chance to win $10\,00
 0 Hole-In-One cash prize (*Other prizes will be awarded for each flight)\
 n\n\nOptional Hole Contests Include: ($100 for all OR choose separately. W
 ill be paid day of tournament.)\n\n\n 	Floating Green ($5.00/player)\n 	Pu
 tting Contest ($5.00/player)\n 	Bubba Watson Drive ($20/team)\n 	Mulligans
  ($40/team)\n\n\n\n*Raffle tickets can be purchased onsite (cash\, check\,
  or card)\n\n*Lunch\, Awards &amp\; Raffle Drawing following the conclusio
 n of play\n\n&nbsp\;\n\nIf you prefer to fill out paper form please use th
 is Form. Please be sure to include appropriate payment and mail to:\nMidwe
 st Hemophilia Association\n1471 W. South St.\nSuite F\nOzark\, MO 65721 \
 n&nbsp\;\n\n[gravityform id="17" title="true" description="true"]\n\n&nbsp
 \;\nThank you to our sponsors:\n\n
CATEGORIES:Golf Tournament
LOCATION:WinterStone Golf Course\, 17101 E Kentucky Rd\, Independence\, MO\
 , 64058\, United States
GEO:39.127443;-94.377438
X-APPLE-STRUCTURED-LOCATION;VALUE=URI;X-ADDRESS=17101 E Kentucky Rd\, Indep
 endence\, MO\, 64058\, United States;X-APPLE-RADIUS=100;X-TITLE=WinterSton
 e Golf Course:geo:39.127443,-94.377438
END:VEVENT
BEGIN:VTIMEZONE
TZID:America/Chicago
X-LIC-LOCATION:America/Chicago
BEGIN:DAYLIGHT
DTSTART:20210314T030000
TZOFFSETFROM:-0600
TZOFFSETTO:-0500
TZNAME:CDT
END:DAYLIGHT
END:VTIMEZONE
END:VCALENDAR