BEGIN:VCALENDAR
VERSION:2.0
PRODID:-//wp-events-plugin.com//7.2.3.1//EN
TZID:America/Chicago
X-WR-TIMEZONE:America/Chicago
BEGIN:VEVENT
UID:425@midwesthemophilia.org
DTSTART;TZID=America/Chicago:20260530T120000
DTEND;TZID=America/Chicago:20260530T150000
DTSTAMP:20260415T203354Z
URL:https://midwesthemophilia.org/events/community-outreach-program-needle
 -to-vein/
SUMMARY:Community Outreach Program: Needle to Vein - Bigshots - 30 May 26 1
 2:00
DESCRIPTION:\n\nJoin your bleeding disorders community for a Needle to Vei
 n: Building Home Infusion Skills workshop that introduces teens\, familie
 s\, and adults to the process of peripheral intravenous infusion. This ses
 sion will explore vein identification\, handwashing basics\, common equipm
 ent and "clean area setup." Individuals will learn about possible complica
 tions and when to contact their nurse or doctor. It will include demonstra
 tions of the home infusion process. Presented by National Nurse Educator\,
  Corbett Reinbold\, RN\, BSN\, of the Bleeding Disorders Center of Excelle
 nce &amp\; Optum Infusion Pharmacy.\n\n\nRegistered attendees will enjoy a
  complimentary lunch\, education\, and time in the golf bays. Open to all 
 diagnosis bleeding disorders in our community.\n\n\nSpace is limited to 25
  so register early. RSVPs accepted until May 20th OR when all spots are fu
 ll.\n\n\n\nRegister\n[gravityform id="151" title="false" description="fals
 e"]\n\n\n[panel style="danger" title="Sponsored By" text_align="left"][sli
 ck_logo_carousel id="2858"][/panel]\n\n\n&nbsp\;\n\n\n&nbsp\;
ATTACH;FMTTYPE=image/jpeg:https://midwesthemophilia.org/wp-content/uploads
 /2026/04/Valentines-Day-Poster-Landscape-5.png
CATEGORIES:Community Outreach Program
LOCATION:Bigshots\, 1930 E. Kearney St\, Spfd MO 65803\, 
GEO:37.239171;-93.258966
X-APPLE-STRUCTURED-LOCATION;VALUE=URI;X-ADDRESS=1930 E. Kearney St\, Spfd M
 O 65803\, ;X-APPLE-RADIUS=100;X-TITLE=Bigshots:geo:37.239171,-93.258966
END:VEVENT
BEGIN:VTIMEZONE
TZID:America/Chicago
X-LIC-LOCATION:America/Chicago
BEGIN:DAYLIGHT
DTSTART:20260308T030000
TZOFFSETFROM:-0600
TZOFFSETTO:-0500
TZNAME:CDT
END:DAYLIGHT
END:VTIMEZONE
END:VCALENDAR