BEGIN:VCALENDAR
VERSION:2.0
PRODID:-//wp-events-plugin.com//7.2.3.1//EN
TZID:America/Chicago
X-WR-TIMEZONE:America/Chicago
BEGIN:VEVENT
UID:101@midwesthemophilia.org
DTSTART;TZID=America/Chicago:20170603T083000
DTEND;TZID=America/Chicago:20170603T130000
DTSTAMP:20161206T213324Z
URL:https://midwesthemophilia.org/events/kansas-city-pull-for-a-cure-a-spo
 rting-clay-event/
SUMMARY:Kansas City Pull for a Cure - A Sporting Clay Event - Powder Creek 
 Shooter Park - 3 Jun 17 08:30
DESCRIPTION:Please join us for the annual Kansas City Pull for a Cure - A S
 porting Clay Event scheduled for Saturday\, June 3\, 2017 at Powder Creek 
 Shooting Park in Lenexa\, KS.  Registration begins at 8:30 a.m.\n\nFor mo
 re information please click on the link below:\n\nKC Pull for a Cure Flyer
CATEGORIES:Uncategorized
LOCATION:Powder Creek Shooter Park\, 8901 Monticello Road\, Lenexa\, Kansas
 \, United States
GEO:38.9671708;-94.84413010000003
X-APPLE-STRUCTURED-LOCATION;VALUE=URI;X-ADDRESS=8901 Monticello Road\, Lene
 xa\, Kansas\, United States;X-APPLE-RADIUS=100;X-TITLE=Powder Creek Shoote
 r Park:geo:38.9671708,-94.84413010000003
END:VEVENT
BEGIN:VTIMEZONE
TZID:America/Chicago
X-LIC-LOCATION:America/Chicago
BEGIN:DAYLIGHT
DTSTART:20170312T030000
TZOFFSETFROM:-0600
TZOFFSETTO:-0500
TZNAME:CDT
END:DAYLIGHT
END:VTIMEZONE
END:VCALENDAR