BEGIN:VCALENDAR
VERSION:2.0
PRODID:-//wp-events-plugin.com//7.2.3.1//EN
TZID:America/Chicago
X-WR-TIMEZONE:America/Chicago
BEGIN:VEVENT
UID:244@midwesthemophilia.org
DTSTART;TZID=America/Chicago;VALUE=DATE:20220514
DTEND;TZID=America/Chicago;VALUE=DATE:20220515
DTSTAMP:20220128T215330Z
URL:https://midwesthemophilia.org/events/mha-board-meeting-2/
SUMMARY:MHA Board Meeting -  - 14 May 22 00:00
DESCRIPTION:
CATEGORIES:Board Meeting
END:VEVENT
BEGIN:VTIMEZONE
TZID:America/Chicago
X-LIC-LOCATION:America/Chicago
BEGIN:DAYLIGHT
DTSTART:20220313T030000
TZOFFSETFROM:-0600
TZOFFSETTO:-0500
TZNAME:CDT
END:DAYLIGHT
END:VTIMEZONE
END:VCALENDAR