BEGIN:VCALENDAR
VERSION:2.0
PRODID:-//wp-events-plugin.com//7.2.3.1//EN
TZID:America/Chicago
X-WR-TIMEZONE:America/Chicago
BEGIN:VEVENT
UID:22@midwesthemophilia.org
DTSTART;TZID=America/Chicago;VALUE=DATE:20121020
DTEND;TZID=America/Chicago;VALUE=DATE:20121022
DTSTAMP:20120919T143329Z
URL:https://midwesthemophilia.org/events/mha-womens-retreat/
SUMMARY:MHA Women's Retreat - Westin Crown Center - 20 Oct 12 00:00
DESCRIPTION:Please fill out the following form and return promptly.\nWomen'
 s Retreat Registration Form\nMidwest Hemophilia Association’s 1st Annual
  Women’s Retreat at Westin Crown Center\nOctober 20 &amp\; 21\, 2012\nRe
 gistration Deadline: September 27th!\nThis retreat is for women over the a
 ge of 19 that are caregivers of a person with a bleeding disorder or have 
 a bleeding disorder themselves.  Women that work for a home care company 
 or are an industry representative will not be able to attend the retreat.\
 n\nThe focus of the conference will be education\, personal growth and net
 working.  Our keynote speaker is Suzanne Janick.  She is a mother of 6\,
  some of which have special needs.  She will kick off the weekend with he
 r fun talk “Celebrate Women”.  Other sessions focus on bleeding disor
 ders\, treatment options and most importantly relaxation!\n\nRegistration 
 will begin at 10:30am on Saturday with lunch beginning at 11:30.  The con
 ference will end after breakfast around 10:00am Sunday morning.\n\nThis is
  event is just for YOU!  Please leave the family at home.  We will pair 
 you with another woman you know for the night.  Please let us know if you
  will NOT be staying the night at Crown Center.\n\nThank you\,\n\nKristin 
 Marema\, MHA Board Member\n\nAimee Tempera-Parks\, MHA Board Member
CATEGORIES:Uncategorized
LOCATION:Westin Crown Center\, 1 East Pershing Road\, Kansas City\, Missour
 i\, 64108\, United States
GEO:39.0841471;-94.58360749999997
X-APPLE-STRUCTURED-LOCATION;VALUE=URI;X-ADDRESS=1 East Pershing Road\, Kans
 as City\, Missouri\, 64108\, United States;X-APPLE-RADIUS=100;X-TITLE=West
 in Crown Center:geo:39.0841471,-94.58360749999997
END:VEVENT
BEGIN:VTIMEZONE
TZID:America/Chicago
X-LIC-LOCATION:America/Chicago
BEGIN:DAYLIGHT
DTSTART:20120311T030000
TZOFFSETFROM:-0600
TZOFFSETTO:-0500
TZNAME:CDT
END:DAYLIGHT
END:VTIMEZONE
END:VCALENDAR