BEGIN:VCALENDAR
VERSION:2.0
PRODID:-//wp-events-plugin.com//7.2.3.1//EN
TZID:America/Chicago
X-WR-TIMEZONE:America/Chicago
BEGIN:VEVENT
UID:417@midwesthemophilia.org
DTSTART;TZID=America/Chicago;VALUE=DATE:20260813
DTEND;TZID=America/Chicago;VALUE=DATE:20260816
DTSTAMP:20260204T220354Z
URL:https://midwesthemophilia.org/events/nbdfs-bleeding-disorders-conferen
 ce/
SUMMARY:NBDF's Bleeding Disorders Conference - Orlando World Center Marriot
 t - 13 Aug 26 00:00
DESCRIPTION:The National Bleeding Disorders Foundation's 78th Annual Bleedi
 ng Disorders Conference will take place from August 13-15\, 2026.\n\nWe ho
 pe you will join us in Orlando\, Florida\, for our premiere three-day even
 t designed to connect\, educate\, and empower those in the Bleeding Diso
 rders community.\n\nExperience a dynamic program filled with engaging edu
 cational sessions\, meaningful networking opportunities\, and a vibrant ex
 hibit hall highlighting the newest innovations in research\, treatment\, 
 and patient care.\n\nWith Orlando’s exciting attractions and our family-
 friendly venue\, this conference offers the perfect blend of learning\, c
 onnection\, and memorable experiences.\n\nDon't miss out - register today!
 \n\n[button color="default" link="https://events.bleeding.org/website/8923
 1/" size="xxx-large" target="_self" block="false"]Conference Registration[
 /button]
ATTACH;FMTTYPE=image/jpeg:https://midwesthemophilia.org/wp-content/uploads
 /2026/02/bleeding_disorders_conference_594x395.png
CATEGORIES:Conference
LOCATION:Orlando World Center Marriott\, 8701 World Center Dr\, Orlando\, F
 L 32821\, Orlando\, Florida\, 32821\, United States
GEO:28.362415;-81.508815
X-APPLE-STRUCTURED-LOCATION;VALUE=URI;X-ADDRESS=8701 World Center Dr\, Orla
 ndo\, FL 32821\, Orlando\, Florida\, 32821\, United States;X-APPLE-RADIUS=
 100;X-TITLE=Orlando World Center Marriott:geo:28.362415,-81.508815
END:VEVENT
BEGIN:VTIMEZONE
TZID:America/Chicago
X-LIC-LOCATION:America/Chicago
BEGIN:DAYLIGHT
DTSTART:20260308T030000
TZOFFSETFROM:-0600
TZOFFSETTO:-0500
TZNAME:CDT
END:DAYLIGHT
END:VTIMEZONE
END:VCALENDAR