BEGIN:VCALENDAR
VERSION:2.0
PRODID:-//wp-events-plugin.com//7.2.3.1//EN
TZID:America/Chicago
X-WR-TIMEZONE:America/Chicago
BEGIN:VEVENT
UID:184@midwesthemophilia.org
DTSTART;TZID=America/Chicago:20201107T140000
DTEND;TZID=America/Chicago:20201107T160000
DTSTAMP:20201019T201317Z
URL:https://midwesthemophilia.org/events/virtual-wichita-education-day/
SUMMARY:Virtual Wichita Education Day -  - 7 Nov 20 14:00
DESCRIPTION:&nbsp\;\n\n\nJoin us for an open discussion entitled\, "Cannabi
 s\, Chronic Pain &amp\; Caveats for Bleeding Disorders Patients."\n\nOpen 
 to everyone with a diagnosed bleeding disorder and their immediate family 
 within our coverage area (Kansas &amp\; Missouri).\n\nAttendees will recei
 ve an event registration box full of goodies provided by MHA and some of o
 ur sponsors. You must attend virtually to receive the $25 food gift card s
 ponsored by MHA. (You will still receive the registration box if you do no
 t attend).\n\n\n 	Chance to win a raffle item\n 	Kids activity\n 	Visit wi
 th community members &amp\; sponsors\n\n\n&nbsp\;\n\n
CATEGORIES:Education,Virtual
END:VEVENT
BEGIN:VTIMEZONE
TZID:America/Chicago
X-LIC-LOCATION:America/Chicago
BEGIN:STANDARD
DTSTART:20201101T010000
TZOFFSETFROM:-0500
TZOFFSETTO:-0600
TZNAME:CST
END:STANDARD
END:VTIMEZONE
END:VCALENDAR